BEGIN:VCALENDAR
VERSION:2.0
PRODID:-//VHL Alliance - ECPv6.13.2.1//NONSGML v1.0//EN
CALSCALE:GREGORIAN
METHOD:PUBLISH
X-WR-CALNAME:VHL Alliance
X-ORIGINAL-URL:https://vhl.org
X-WR-CALDESC:Events for VHL Alliance
REFRESH-INTERVAL;VALUE=DURATION:PT1H
X-Robots-Tag:noindex
X-PUBLISHED-TTL:PT1H
BEGIN:VTIMEZONE
TZID:America/New_York
BEGIN:DAYLIGHT
TZOFFSETFROM:-0500
TZOFFSETTO:-0400
TZNAME:EDT
DTSTART:20250309T070000
END:DAYLIGHT
BEGIN:STANDARD
TZOFFSETFROM:-0400
TZOFFSETTO:-0500
TZNAME:EST
DTSTART:20251102T060000
END:STANDARD
END:VTIMEZONE
BEGIN:VEVENT
DTSTART;TZID=America/New_York:20250519T200000
DTEND;TZID=America/New_York:20250519T210000
DTSTAMP:20260423T202643
CREATED:20240605T194133Z
LAST-MODIFIED:20240605T194133Z
UID:10000102-1747684800-1747688400@vhl.org
SUMMARY:May Parents of VHL Patients Call
DESCRIPTION:Third Monday of every other month. \nPlease join us on the third Monday every other month to discuss how we can help our children thrive with VHL. \n  \nOur topic\n“How to navigate the challenging emotions that come with having a child with a chronic illness (and how to know when we aren’t doing that well).” \n  \nAll parents of VHL patients are welcome to join—whether you have questions or just want to find out more. There will be time near the end of the call for an open discussion of other VHL-related topics. We look forward to another thoughtful discussion! \n  \nThis facilitated call takes place on the third Monday of every other month at 8 PM ET. If you would like to join the call\, please fill out the form below. \n  \nIf you would like to join the call list please click here to register. \n 
URL:https://vhl.org/vhla-event/may-parents-of-vhl-patients-call-2025/
LOCATION:Zoom / Online
CATEGORIES:Parents of VHL Patients Call
ATTACH;FMTTYPE=image/jpeg:https://vhl.org/wp-content/uploads/2024/06/May-18-How-to-navigate-the-challenging-emotions-that-come-with-having-a-child-with-chronic-disease.jpg
END:VEVENT
END:VCALENDAR