BEGIN:VCALENDAR
VERSION:2.0
PRODID:-//VHL Alliance - ECPv6.13.2.1//NONSGML v1.0//EN
CALSCALE:GREGORIAN
METHOD:PUBLISH
X-ORIGINAL-URL:https://vhl.org
X-WR-CALDESC:Events for VHL Alliance
REFRESH-INTERVAL;VALUE=DURATION:PT1H
X-Robots-Tag:noindex
X-PUBLISHED-TTL:PT1H
BEGIN:VTIMEZONE
TZID:America/New_York
BEGIN:DAYLIGHT
TZOFFSETFROM:-0500
TZOFFSETTO:-0400
TZNAME:EDT
DTSTART:20230312T070000
END:DAYLIGHT
BEGIN:STANDARD
TZOFFSETFROM:-0400
TZOFFSETTO:-0500
TZNAME:EST
DTSTART:20231105T060000
END:STANDARD
END:VTIMEZONE
BEGIN:VEVENT
DTSTART;TZID=America/New_York:20230515T200000
DTEND;TZID=America/New_York:20230515T210000
DTSTAMP:20260423T080350
CREATED:20230320T183532Z
LAST-MODIFIED:20230329T172019Z
UID:10000020-1684180800-1684184400@vhl.org
SUMMARY:May Parents of VHL Patients Call
DESCRIPTION:Third Monday of every other month. \nPlease join us on the third Monday every other month to discuss how we can help our children thrive with VHL. \n  \nOur topic\nFind out how what you believe about VHL and its impact on you can increase or decrease your child’s health outcomes and what you can do about it. \n  \nAll parents of VHLers are welcome to join—whether you have questions or just want to find out more. There will be time near the end of the call for an open discussion of other VHL-related topics. We look forward to another thoughtful discussion! \n  \nThis facilitated call takes place on the third Monday of every other month at 8 PM ET. If you would like to join the call\, please fill out the form below. \n  \n \n\n\n\n\n* indicates required\nEmail Address *\n\n\n\nFirst Name *\n\n\n\nLast Name *\n\n\n\n\nAddress \n\nAddress Line 2\n\n\nCity\n\nState/Province/Region\n\nPostal / Zip Code\n\n\nCountry\nUSAAaland IslandsAfghanistanAlbaniaAlgeriaAmerican SamoaAndorraAngolaAnguillaAntigua And BarbudaArgentinaArmeniaArubaAustraliaAustriaAzerbaijanBahamasBahrainBangladeshBarbadosBelarusBelgiumBelizeBeninBermudaBhutanBoliviaBonaire\, Saint Eustatius and SabaBosnia and HerzegovinaBotswanaBouvet IslandBrazilBrunei DarussalamBulgariaBurkina FasoBurundiCambodiaCameroonCanadaCape VerdeCayman IslandsCentral African RepublicChadChileChinaChristmas IslandColombiaComorosCongoCook IslandsCosta RicaCote D’IvoireCroatiaCubaCuracaoCyprusCzech RepublicDemocratic Republic of the CongoDenmarkDjiboutiDominicaDominican RepublicEcuadorEgyptEl SalvadorEquatorial GuineaEritreaEstoniaEthiopiaFalkland IslandsFaroe IslandsFijiFinlandFranceFrench GuianaFrench PolynesiaGabonGambiaGeorgiaGermanyGhanaGibraltarGreeceGreenlandGrenadaGuadeloupeGuamGuatemalaGuernseyGuineaGuyanaHaitiHondurasHong KongHungaryIcelandIndiaIndonesiaIranIraqIrelandIsle of ManIsraelItalyJamaicaJapanJersey (Channel Islands)JordanKazakhstanKenyaKiribatiKuwaitKyrgyzstanLao People’s Democratic RepublicLatviaLebanonLesothoLiberiaLibyaLiechtensteinLithuaniaLuxembourgMacauMacedoniaMadagascarMalawiMalaysiaMaldivesMaliMaltaMarshall IslandsMartiniqueMauritaniaMauritiusMayotteMexicoMoldova\, Republic ofMonacoMongoliaMontenegroMontserratMoroccoMozambiqueMyanmarNamibiaNepalNetherlandsNetherlands AntillesNew CaledoniaNew ZealandNicaraguaNigerNigeriaNiueNorfolk IslandNorth KoreaNorwayOmanPakistanPalauPalestinePanamaPapua New GuineaParaguayPeruPhilippinesPitcairnPolandPortugalQatarRepublic of KosovoReunionRomaniaRussiaRwandaSaint Kitts and NevisSaint LuciaSaint MartinSaint Vincent and the GrenadinesSamoa (Independent)San MarinoSao Tome and PrincipeSaudi ArabiaSenegalSerbiaSeychellesSierra LeoneSingaporeSint MaartenSlovakiaSloveniaSolomon IslandsSomaliaSouth AfricaSouth Georgia and the South Sandwich IslandsSouth KoreaSouth SudanSpainSri LankaSudanSurinameSvalbard and Jan Mayen IslandsSwazilandSwedenSwitzerlandSyriaTaiwanTajikistanTanzaniaThailandTimor-LesteTogoTongaTrinidad and TobagoTunisiaTurkeyTurkmenistanTurks & Caicos IslandsUgandaUkraineUnited Arab EmiratesUnited KingdomUruguayUzbekistanVanuatuVatican City State (Holy See)VenezuelaVietnamVirgin Islands (British)Virgin Islands (U.S.)Western SaharaYemenZambiaZimbabwe\n\nPhone Number \n\n\n\nWhat call would you like to join?  \n\n\nPatient / Caregiver Call\n\nParents of VHLers Call\n\nLow / No Vision Call\n\n 
URL:https://vhl.org/vhla-event/may-parents-of-vhlers-call/
LOCATION:Zoom / Online
CATEGORIES:Parents of VHL Patients Call
ATTACH;FMTTYPE=image/jpeg:https://vhl.org/wp-content/uploads/2023/03/what-you-believe-about-vhl-3.jpg
END:VEVENT
BEGIN:VEVENT
DTSTART;TZID=America/New_York:20230320T200000
DTEND;TZID=America/New_York:20230320T210000
DTSTAMP:20260423T080350
CREATED:20230123T193222Z
LAST-MODIFIED:20230324T153910Z
UID:10000010-1679342400-1679346000@vhl.org
SUMMARY:March Parents of VHL Patients Call
DESCRIPTION:Third Monday of every other month. \nPlease join us on the third Monday every other month to discuss how we can help our children thrive with VHL. \nAll parents of VHLers are welcome to join—whether you have questions or just want to find out more. There will be time near the end of the call for an open discussion of other VHL-related topics. We look forward to another thoughtful discussion! \nThis facilitated call takes place on the third Monday of every other month at 8 PM ET. If you would like to join the call\, please fill out the form below. \n  \n\n\n\n\n\n\n* indicates required\n\n	Email Address  *\n\n	\n	\n\n\n	First Name  *\n\n	\n	\n\n\n	Last Name  *\n\n	\n	\n\n\n\n	    Address \n		\n	\n\n	    Address Line 2\n		\n	\n\n\n				City\n			\n		\n\n				State/Province/Region\n		\n		\n\n				Postal / Zip Code\n			\n		\n \n\n	    Country\n		USAAaland IslandsAfghanistanAlbaniaAlgeriaAmerican SamoaAndorraAngolaAnguillaAntigua And BarbudaArgentinaArmeniaArubaAustraliaAustriaAzerbaijanBahamasBahrainBangladeshBarbadosBelarusBelgiumBelizeBeninBermudaBhutanBoliviaBonaire\, Saint Eustatius and SabaBosnia and HerzegovinaBotswanaBouvet IslandBrazilBrunei DarussalamBulgariaBurkina FasoBurundiCambodiaCameroonCanadaCape VerdeCayman IslandsCentral African RepublicChadChileChinaChristmas IslandColombiaComorosCongoCook IslandsCosta RicaCote D’IvoireCroatiaCubaCuracaoCyprusCzech RepublicDemocratic Republic of the CongoDenmarkDjiboutiDominicaDominican RepublicEcuadorEgyptEl SalvadorEquatorial GuineaEritreaEstoniaEthiopiaFalkland IslandsFaroe IslandsFijiFinlandFranceFrench GuianaFrench PolynesiaGabonGambiaGeorgiaGermanyGhanaGibraltarGreeceGreenlandGrenadaGuadeloupeGuamGuatemalaGuernseyGuineaGuyanaHaitiHondurasHong KongHungaryIcelandIndiaIndonesiaIranIraqIrelandIsle of ManIsraelItalyJamaicaJapanJersey  (Channel Islands)JordanKazakhstanKenyaKiribatiKuwaitKyrgyzstanLao People’s Democratic RepublicLatviaLebanonLesothoLiberiaLibyaLiechtensteinLithuaniaLuxembourgMacauMacedoniaMadagascarMalawiMalaysiaMaldivesMaliMaltaMarshall IslandsMartiniqueMauritaniaMauritiusMayotteMexicoMoldova\, Republic ofMonacoMongoliaMontenegroMontserratMoroccoMozambiqueMyanmarNamibiaNepalNetherlandsNetherlands AntillesNew CaledoniaNew ZealandNicaraguaNigerNigeriaNiueNorfolk IslandNorth KoreaNorwayOmanPakistanPalauPalestinePanamaPapua New GuineaParaguayPeruPhilippinesPitcairnPolandPortugalQatarRepublic of KosovoReunionRomaniaRussiaRwandaSaint Kitts and NevisSaint LuciaSaint MartinSaint Vincent and the GrenadinesSamoa (Independent)San MarinoSao Tome and PrincipeSaudi ArabiaSenegalSerbiaSeychellesSierra LeoneSingaporeSint MaartenSlovakiaSloveniaSolomon IslandsSomaliaSouth AfricaSouth Georgia and the South Sandwich IslandsSouth KoreaSouth SudanSpainSri LankaSudanSurinameSvalbard and Jan Mayen IslandsSwazilandSwedenSwitzerlandSyriaTaiwanTajikistanTanzaniaThailandTimor-LesteTogoTongaTrinidad and TobagoTunisiaTurkeyTurkmenistanTurks & Caicos IslandsUgandaUkraineUnited Arab EmiratesUnited KingdomUruguayUzbekistanVanuatuVatican City State (Holy See)VenezuelaVietnamVirgin Islands (British)Virgin Islands (U.S.)Western SaharaYemenZambiaZimbabwe\n	\n\n\n	Phone Number \n	\n	 \n\n\n    What call would you like to join?  \n\n\n    \n    Patient / Caregiver Call\n\n\n    \n    Parents of VHLers Call\n\n\n    \n    Low / No Vision Call
URL:https://vhl.org/vhla-event/parents-of-vhlers-call-march/
LOCATION:Zoom / Online
CATEGORIES:Parents of VHL Patients Call
ATTACH;FMTTYPE=image/jpeg:https://vhl.org/wp-content/uploads/2023/01/parents-of-vhlers-call.jpg
END:VEVENT
END:VCALENDAR