BEGIN:VCALENDAR
VERSION:2.0
PRODID:-//VHL Alliance - ECPv6.13.2.1//NONSGML v1.0//EN
CALSCALE:GREGORIAN
METHOD:PUBLISH
X-WR-CALNAME:VHL Alliance
X-ORIGINAL-URL:https://vhl.org
X-WR-CALDESC:Events for VHL Alliance
REFRESH-INTERVAL;VALUE=DURATION:PT1H
X-Robots-Tag:noindex
X-PUBLISHED-TTL:PT1H
BEGIN:VTIMEZONE
TZID:America/New_York
BEGIN:DAYLIGHT
TZOFFSETFROM:-0500
TZOFFSETTO:-0400
TZNAME:EDT
DTSTART:20240310T070000
END:DAYLIGHT
BEGIN:STANDARD
TZOFFSETFROM:-0400
TZOFFSETTO:-0500
TZNAME:EST
DTSTART:20241103T060000
END:STANDARD
END:VTIMEZONE
BEGIN:VEVENT
DTSTART;TZID=America/New_York:20241209T200000
DTEND;TZID=America/New_York:20241209T210000
DTSTAMP:20260421T170408
CREATED:20240605T170950Z
LAST-MODIFIED:20241104T155405Z
UID:10000078-1733774400-1733778000@vhl.org
SUMMARY:December Patient/Caregiver Call
DESCRIPTION:First Monday of every month. \n  \nAll are welcome to join—whether you have questions or just want to find out more. There will be time near the end of the call for an open discussion of other VHL-related topics. We look forward to another thoughtful discussion! \n  \nThis facilitated call takes place on the first Monday of every month at 8 PM ET. *Please note that this call is delayed one week due to a scheduling conflict* \n  \nCall topic:\nCreating healthy relationships with good communication skills \n  \nIf you would like to join the call list please click here to register. \n 
URL:https://vhl.org/vhla-event/dec-patient-caregiver-call-2024/
LOCATION:Zoom / Online
CATEGORIES:VHL Patient/Caregiver Call
ATTACH;FMTTYPE=image/jpeg:https://vhl.org/wp-content/uploads/2024/06/Dec-2-Creating-healthy-relationships-with-good-communication-skills.jpg
END:VEVENT
END:VCALENDAR