BEGIN:VCALENDAR
VERSION:2.0
PRODID:-//VHL Alliance - ECPv6.13.2.1//NONSGML v1.0//EN
CALSCALE:GREGORIAN
METHOD:PUBLISH
X-WR-CALNAME:VHL Alliance
X-ORIGINAL-URL:https://vhl.org
X-WR-CALDESC:Events for VHL Alliance
REFRESH-INTERVAL;VALUE=DURATION:PT1H
X-Robots-Tag:noindex
X-PUBLISHED-TTL:PT1H
BEGIN:VTIMEZONE
TZID:America/New_York
BEGIN:DAYLIGHT
TZOFFSETFROM:-0500
TZOFFSETTO:-0400
TZNAME:EDT
DTSTART:20230312T070000
END:DAYLIGHT
BEGIN:STANDARD
TZOFFSETFROM:-0400
TZOFFSETTO:-0500
TZNAME:EST
DTSTART:20231105T060000
END:STANDARD
END:VTIMEZONE
BEGIN:VEVENT
DTSTART;TZID=America/New_York:20230223T130000
DTEND;TZID=America/New_York:20230223T143000
DTSTAMP:20260425T064041
CREATED:20230123T194146Z
LAST-MODIFIED:20230124T144043Z
UID:10000011-1677157200-1677162600@vhl.org
SUMMARY:Navigating Tough Conversations Workshop
DESCRIPTION:  \nNo one likes conflict. Having VHL can feel very stressful and that can strain relationships\, erode healthy communication\, and increase the likelihood of conflict. \n  \nWhat if you could navigate tough conversations with greater expertise or avoid having conflict? \n  \nJoin this session to discover research-based tools that you can implement immediately to improve your communication skills and bring harmony to your relationships. \n\nClick here to register
URL:https://vhl.org/vhla-event/navigating-tough-conversations-workshop/
LOCATION:Zoom / Online
CATEGORIES:Workshop
ATTACH;FMTTYPE=image/jpeg:https://vhl.org/wp-content/uploads/2023/01/Leona-Workshop-Template-1.jpg
END:VEVENT
BEGIN:VEVENT
DTSTART;TZID=America/New_York:20230223T190000
DTEND;TZID=America/New_York:20230223T203000
DTSTAMP:20260425T064041
CREATED:20230123T203835Z
LAST-MODIFIED:20230124T180317Z
UID:10000012-1677178800-1677184200@vhl.org
SUMMARY:New Patient / Caregiver Cohort Program
DESCRIPTION:  \nRecently diagnosed? Join us for our four week New Patient Cohort! This program will allow you to… \n  \n\nMeet other VHL patients and caregivers and developed a personal support network\nLearn more about VHL disease from VHL experts\nLearn about the VHL Surveillance Guidelines and why they are important\nLearn about the importance of VHL-experienced clinical care and the CCC program\nLearn about resilience\, how to practice self-care and where to find support\nLearn how to be a better self-advocate and share your story\nLearn where to find available VHLA and external resources\nLearn how to get involved with VHLA and contribute to the VHL community\n\n  \nWeek 1 (February 23rd) – Welcome and What is VHL? \n\nWelcome and introductions\nVHL 101 and Research Discussion\n\n  \nWeek 2 (March 2nd) – Self-Care\, Self-Advocacy\, and Support \n\nWhat is self-care and why is it important?\nDealing with Stress and Anxiety\nFacing adversity and fostering resilience\nBeing a self-advocate\n“Elevator Pitch” – Communicating with those around you\n\n  \nWeek 3 (March 9th) – VHL Veterans Panel \n\nPanel discussion with VHL patients – “Ask the VHL Veterans”\n\n  \nWeek 4 (March 16th) – Available Resources and Getting Involved \n\nHow to find available resources\nVHLA resources\nExternal resources\nVolunteer opportunities\nUpcoming Events\nFeedback\n\n  \n  \nRegister Here
URL:https://vhl.org/vhla-event/new-patient-cohort-program/2023-02-23/
LOCATION:Zoom / Online
CATEGORIES:Workshop
ATTACH;FMTTYPE=image/jpeg:https://vhl.org/wp-content/uploads/2023/01/new-patient-cohort-image.jpg
END:VEVENT
END:VCALENDAR