BEGIN:VCALENDAR
VERSION:2.0
PRODID:-//VHL Alliance - ECPv6.13.2.1//NONSGML v1.0//EN
CALSCALE:GREGORIAN
METHOD:PUBLISH
X-WR-CALNAME:VHL Alliance
X-ORIGINAL-URL:https://vhl.org
X-WR-CALDESC:Events for VHL Alliance
REFRESH-INTERVAL;VALUE=DURATION:PT1H
X-Robots-Tag:noindex
X-PUBLISHED-TTL:PT1H
BEGIN:VTIMEZONE
TZID:America/New_York
BEGIN:DAYLIGHT
TZOFFSETFROM:-0500
TZOFFSETTO:-0400
TZNAME:EDT
DTSTART:20230312T070000
END:DAYLIGHT
BEGIN:STANDARD
TZOFFSETFROM:-0400
TZOFFSETTO:-0500
TZNAME:EST
DTSTART:20231105T060000
END:STANDARD
END:VTIMEZONE
BEGIN:VEVENT
DTSTART;TZID=America/New_York:20231116T190000
DTEND;TZID=America/New_York:20231116T200000
DTSTAMP:20260424T181321
CREATED:20231013T141411Z
LAST-MODIFIED:20231031T162410Z
UID:10000065-1700161200-1700164800@vhl.org
SUMMARY:VHL Veterans Panel
DESCRIPTION:The VHL Alliance proudly presents the VHL Veterans Panel! \n \nPrepare to be inspired as we bring together a group of incredible individuals who have faced the challenges of living with Von Hippel-Lindau (VHL) disease and are ready to share their experience.  \n \n \nDate: November 16th\, 2023Time: 7 pm ESTLocation: Zoom.  \n \n \nWhat to Expect: \n \n \n✨ Courageous Stories: Hear firsthand from VHL veterans who have overcome adversity and turned their experiences into sources of strength. \n \n \n✨ Community Support: Connect with others who understand the VHL journey. \n \n \n✨ Q&A Session: Engage with our panelists during an interactive Q&A session\, where you can ask questions\, seek advice\, and participate in insightful discussions. \n \n \nHow to Participate: \nThis event is open to everyone\, from VHL patients and their families to healthcare professionals\, researchers\, and anyone interested in learning more about VHL disease. \n \nTo register for this free event\, click here or use the registration button below. See you on November 16th! \n			\n						Register Now!
URL:https://vhl.org/vhla-event/vhl-veterans-panel/
LOCATION:Zoom / Online
CATEGORIES:Workshop
ATTACH;FMTTYPE=image/jpeg:https://vhl.org/wp-content/uploads/2023/10/vhl-veterans-panel-nov-16.jpg
END:VEVENT
END:VCALENDAR